BEGIN:VCALENDAR
VERSION:2.0
PRODID:-//wp-events-plugin.com//7.2.3.1//EN
TZID:Europe/Paris
X-WR-TIMEZONE:Europe/Paris
BEGIN:VEVENT
UID:0-107@500voix.com
DTSTART;TZID=Europe/Paris:20251205T200000
DTEND;TZID=Europe/Paris:20251205T220000
DTSTAMP:20250130T134303Z
URL:https://500voix.com/evenements/les-plus-belles-chansons-francaises-35/
SUMMARY:Les Plus Belles Chansons Françaises
DESCRIPTION:
CATEGORIES:Goldman - 200 voix pour une légende
LOCATION:Théâtre Sebastopol – Lille (59)\, Pl. Sébastopol\, 59000 Lill
 e\, Lille\, 59000\, France
X-APPLE-STRUCTURED-LOCATION;VALUE=URI;X-ADDRESS=Pl. Sébastopol\, 59000 Lil
 le\, Lille\, 59000\, France;X-APPLE-RADIUS=100;X-TITLE=Théâtre Sebastopo
 l – Lille (59):geo:0,0
END:VEVENT
BEGIN:VTIMEZONE
TZID:Europe/Paris
X-LIC-LOCATION:Europe/Paris
BEGIN:STANDARD
DTSTART:20251026T020000
TZOFFSETFROM:+0200
TZOFFSETTO:+0100
TZNAME:CET
END:STANDARD
END:VTIMEZONE
END:VCALENDAR